BEGIN:VCALENDAR
VERSION:2.0
PRODID:-//Black Pearl - ECPv6.15.20//NONSGML v1.0//EN
CALSCALE:GREGORIAN
METHOD:PUBLISH
X-WR-CALNAME:Black Pearl
X-ORIGINAL-URL:https://blackpearlportjeff.com
X-WR-CALDESC:Events for Black Pearl
REFRESH-INTERVAL;VALUE=DURATION:PT1H
X-Robots-Tag:noindex
X-PUBLISHED-TTL:PT1H
BEGIN:VTIMEZONE
TZID:America/New_York
BEGIN:DAYLIGHT
TZOFFSETFROM:-0500
TZOFFSETTO:-0400
TZNAME:EDT
DTSTART:20250309T070000
END:DAYLIGHT
BEGIN:STANDARD
TZOFFSETFROM:-0400
TZOFFSETTO:-0500
TZNAME:EST
DTSTART:20251102T060000
END:STANDARD
BEGIN:DAYLIGHT
TZOFFSETFROM:-0500
TZOFFSETTO:-0400
TZNAME:EDT
DTSTART:20260308T070000
END:DAYLIGHT
BEGIN:STANDARD
TZOFFSETFROM:-0400
TZOFFSETTO:-0500
TZNAME:EST
DTSTART:20261101T060000
END:STANDARD
BEGIN:DAYLIGHT
TZOFFSETFROM:-0500
TZOFFSETTO:-0400
TZNAME:EDT
DTSTART:20270314T070000
END:DAYLIGHT
BEGIN:STANDARD
TZOFFSETFROM:-0400
TZOFFSETTO:-0500
TZNAME:EST
DTSTART:20271107T060000
END:STANDARD
END:VTIMEZONE
BEGIN:VEVENT
DTSTART;TZID=America/New_York:20260423T180000
DTEND;TZID=America/New_York:20260423T210000
DTSTAMP:20260421T044359
CREATED:20260417T140549Z
LAST-MODIFIED:20260417T140549Z
UID:7105-1776967200-1776978000@blackpearlportjeff.com
SUMMARY:Kelli Baker Duo - Live Music
DESCRIPTION:Join us tonight at 6 PM for a live performance by the Kelli Baker Duo!\n\nKnown for powerful vocals and a bluesy rock edge\, this duo delivers a soulful set that brings a little extra energy to your night.
URL:https://blackpearlportjeff.com/event/4-23-26/
ATTACH;FMTTYPE=image/jpeg:https://blackpearlportjeff.com/wp-content/uploads/2026/04/669359870_122168127146837835_3072613300477054172_n.jpg
END:VEVENT
BEGIN:VEVENT
DTSTART;TZID=America/New_York:20260424T190000
DTEND;TZID=America/New_York:20260424T220000
DTSTAMP:20260421T044359
CREATED:20260417T140728Z
LAST-MODIFIED:20260417T140758Z
UID:7109-1777057200-1777068000@blackpearlportjeff.com
SUMMARY:Jeff Allegue & Jenn Cella - Live Music
DESCRIPTION:Join us tonight at 7 PM for a live performance by Jeff Allegue & Jenn Cella!\n\nThis dynamic duo blends strong vocals with a mix of classics and modern favorites for a lively and engaging night of music.
URL:https://blackpearlportjeff.com/event/4-24-26/
ATTACH;FMTTYPE=image/jpeg:https://blackpearlportjeff.com/wp-content/uploads/2026/04/668535434_122168127092837835_5082759019417579742_n.jpg
END:VEVENT
BEGIN:VEVENT
DTSTART;TZID=America/New_York:20260425T190000
DTEND;TZID=America/New_York:20260425T220000
DTSTAMP:20260421T044359
CREATED:20260417T140853Z
LAST-MODIFIED:20260417T140853Z
UID:7113-1777143600-1777154400@blackpearlportjeff.com
SUMMARY:Mikki & Mike - Live Music
DESCRIPTION:Join us tonight at 7 PM for a live performance by Mikki & Mike!\n\nBringing great chemistry and a fun mix of songs\, they keep the crowd entertained with an upbeat\, feel-good set.
URL:https://blackpearlportjeff.com/event/mikki-mike-live-music/
ATTACH;FMTTYPE=image/jpeg:https://blackpearlportjeff.com/wp-content/uploads/2026/04/668208214_122168127050837835_8462156219137216977_n.jpg
END:VEVENT
BEGIN:VEVENT
DTSTART;TZID=America/New_York:20260430T180000
DTEND;TZID=America/New_York:20260430T210000
DTSTAMP:20260421T044359
CREATED:20260417T141031Z
LAST-MODIFIED:20260417T141031Z
UID:7116-1777572000-1777582800@blackpearlportjeff.com
SUMMARY:Acoustic Maniacs - Live Music
DESCRIPTION:Join us tonight at 6 PM for a live performance by Acoustic Maniacs!\n\nBack again with their signature acoustic style\, they deliver a relaxed\, familiar soundtrack that pairs perfectly with your evening at Black Pearl.
URL:https://blackpearlportjeff.com/event/acoustic-maniacs-live-music/
ATTACH;FMTTYPE=image/jpeg:https://blackpearlportjeff.com/wp-content/uploads/2026/04/668629954_122168128010837835_3536535929619062873_n.jpg
END:VEVENT
END:VCALENDAR